BEGIN:VCALENDAR
VERSION:2.0
PRODID:-//Mandurah Over 55 Cycle Club - ECPv4.9.12//NONSGML v1.0//EN
CALSCALE:GREGORIAN
METHOD:PUBLISH
X-WR-CALNAME:Mandurah Over 55 Cycle Club
X-ORIGINAL-URL:https://mandurahover55cycleclub.org.au
X-WR-CALDESC:Events for Mandurah Over 55 Cycle Club
BEGIN:VTIMEZONE
TZID:Australia/Perth
BEGIN:STANDARD
TZOFFSETFROM:+0800
TZOFFSETTO:+0800
TZNAME:AWST
DTSTART:20200101T000000
END:STANDARD
END:VTIMEZONE
BEGIN:VEVENT
DTSTART;TZID=Australia/Perth:20200229T070000
DTEND;TZID=Australia/Perth:20200229T070000
DTSTAMP:20200228T072515
CREATED:20200121T024258Z
LAST-MODIFIED:20200121T024258Z
UID:2884-1582959600-1582959600@mandurahover55cycleclub.org.au
SUMMARY:Three Rides by Giant & Cycles Mandurah
DESCRIPTION:Rides commences 7am every Saturday from the Giant store in Mandurah. \nThree rides available: Fast Ride\, Medium Ride and Easy Ride for Competent Riders \n
URL:https://mandurahover55cycleclub.org.au/event/three-rides-by-giant-cycles-mandurah/2020-02-29/
LOCATION:Giant Mandurah\, Shop 2/10 Rutland Dr\, Halls Head\, WA\, 6210\, Australia
END:VEVENT
BEGIN:VEVENT
DTSTART;TZID=Australia/Perth:20200303T080000
DTEND;TZID=Australia/Perth:20200303T080000
DTSTAMP:20200228T072515
CREATED:20191003T081618Z
LAST-MODIFIED:20200121T031558Z
UID:2965-1583222400-1583222400@mandurahover55cycleclub.org.au
SUMMARY:Club Ride
DESCRIPTION:Ride commences at 8am from Dec – Feb \nRide commences at 9am from Mar – Nov \n
URL:https://mandurahover55cycleclub.org.au/event/club-ride-2/2020-03-03/
LOCATION:Club House\, 1 Halls Head Parade\, Halls Head\, WA\, 6210\, Australia
CATEGORIES:Club Ride
END:VEVENT
BEGIN:VEVENT
DTSTART;TZID=Australia/Perth:20200304T090000
DTEND;TZID=Australia/Perth:20200304T090000
DTSTAMP:20200228T072515
CREATED:20200121T022810Z
LAST-MODIFIED:20200121T022810Z
UID:2604-1583312400-1583312400@mandurahover55cycleclub.org.au
SUMMARY:Barry and Jan's Ride - Bouvard and Back
DESCRIPTION:Riders meet at 9am every Wednesday (8am in Summer) at the Osprey Waters Car Park. \nMedium to Strong Riders \n
URL:https://mandurahover55cycleclub.org.au/event/barry-and-jans-ride-bouvard-and-back/2020-03-04/
LOCATION:Osprey Waters Car Park\, 62 Egret Point Road\, Erskine\, WA\, 6210\, Australia
CATEGORIES:Club Ride
END:VEVENT
BEGIN:VEVENT
DTSTART;TZID=Australia/Perth:20200304T150000
DTEND;TZID=Australia/Perth:20200304T150000
DTSTAMP:20200228T072515
CREATED:20200121T031827Z
LAST-MODIFIED:20200121T031827Z
UID:3044-1583334000-1583334000@mandurahover55cycleclub.org.au
SUMMARY:Pizza Ride to Singleton
DESCRIPTION:
URL:https://mandurahover55cycleclub.org.au/event/pizza-ride-to-singleton/
LOCATION:Rotunda\, 54 Mandurah Terrace\, Mandurah\, WA\, 6210\, Australia
CATEGORIES:Club Ride
END:VEVENT
BEGIN:VEVENT
DTSTART;TZID=Australia/Perth:20200305T090000
DTEND;TZID=Australia/Perth:20200305T090000
DTSTAMP:20200228T072515
CREATED:20200121T021314Z
LAST-MODIFIED:20200121T021314Z
UID:2286-1583398800-1583398800@mandurahover55cycleclub.org.au
SUMMARY:Peelwood Path
DESCRIPTION:Riders meet at 9am every Thursday opposite the BP Service Station in Halls Head. \nRides to Venue 1 and Venue 2 on alternate months. \nAll level of riders catered for. \n
URL:https://mandurahover55cycleclub.org.au/event/peelwood-path/2020-03-05/
LOCATION:Peelwood Path\, 2 Peelwood Parade\, Halls Head\, WA\, 6210\, Australia
CATEGORIES:Club Ride
END:VEVENT
BEGIN:VEVENT
DTSTART;TZID=Australia/Perth:20200306T080000
DTEND;TZID=Australia/Perth:20200306T080000
DTSTAMP:20200228T072515
CREATED:20191118T082827Z
LAST-MODIFIED:20200121T023300Z
UID:1611-1583481600-1583481600@mandurahover55cycleclub.org.au
SUMMARY:Fridays from Lake Cemetery
DESCRIPTION:Ride commences at 8:00am every Friday from Lake Cemetery\, Stock Road. Ride commences at 7.30am in Summer. \nFor medium to strong riders \nRide takes Freeway path to Baldivis one week\, and Pinjarra other week. \n  \n
URL:https://mandurahover55cycleclub.org.au/event/fridays-from-lake-cemetery/2020-03-06/
LOCATION:Lakes Cemetery\, 115 Stock Road\, Parklands\, WA\, 6180\, Australia
CATEGORIES:Club Ride
ORGANIZER;CN="Mark%20Thurgood":MAILTO:ridecaptain@mandurahover55cycleclub.org.au
END:VEVENT
BEGIN:VEVENT
DTSTART;TZID=Australia/Perth:20200306T090000
DTEND;TZID=Australia/Perth:20200306T090000
DTSTAMP:20200228T072515
CREATED:20190906T032318Z
LAST-MODIFIED:20190906T032318Z
UID:2827-1583485200-1583485200@mandurahover55cycleclub.org.au
SUMMARY:Fridays from Rotunda
DESCRIPTION:Social ride\, easy riders catered for (fast as the slowest rider).\n8:00am start Dec – Feb;\n9:00am Mar – Nov \n
URL:https://mandurahover55cycleclub.org.au/event/fridays-from-rotunda/2020-03-06/
LOCATION:Rotunda\, 54 Mandurah Terrace\, Mandurah\, WA\, 6210\, Australia
CATEGORIES:Club Ride
END:VEVENT
BEGIN:VEVENT
DTSTART;TZID=Australia/Perth:20200307T070000
DTEND;TZID=Australia/Perth:20200307T070000
DTSTAMP:20200228T072515
CREATED:20200121T024258Z
LAST-MODIFIED:20200121T024258Z
UID:2885-1583564400-1583564400@mandurahover55cycleclub.org.au
SUMMARY:Three Rides by Giant & Cycles Mandurah
DESCRIPTION:Rides commences 7am every Saturday from the Giant store in Mandurah. \nThree rides available: Fast Ride\, Medium Ride and Easy Ride for Competent Riders \n
URL:https://mandurahover55cycleclub.org.au/event/three-rides-by-giant-cycles-mandurah/2020-03-07/
LOCATION:Giant Mandurah\, Shop 2/10 Rutland Dr\, Halls Head\, WA\, 6210\, Australia
END:VEVENT
BEGIN:VEVENT
DTSTART;VALUE=DATE:20200310
DTEND;VALUE=DATE:20200311
DTSTAMP:20200228T072515
CREATED:20190830T092836Z
LAST-MODIFIED:20190830T092836Z
UID:2241-1583798400-1583884799@mandurahover55cycleclub.org.au
SUMMARY:Committee Meeting
DESCRIPTION:Held after the Club Ride \n
URL:https://mandurahover55cycleclub.org.au/event/committee-meeting/2020-03-10/
LOCATION:Club House\, 1 Halls Head Parade\, Halls Head\, WA\, 6210\, Australia
CATEGORIES:Meeting
ORGANIZER;CN="John%20Cox":MAILTO:president@mandurahover55cycleclub.org.au
END:VEVENT
BEGIN:VEVENT
DTSTART;TZID=Australia/Perth:20200310T080000
DTEND;TZID=Australia/Perth:20200310T080000
DTSTAMP:20200228T072515
CREATED:20191003T081618Z
LAST-MODIFIED:20200121T031559Z
UID:2966-1583827200-1583827200@mandurahover55cycleclub.org.au
SUMMARY:Club Ride
DESCRIPTION:Ride commences at 8am from Dec – Feb \nRide commences at 9am from Mar – Nov \n
URL:https://mandurahover55cycleclub.org.au/event/club-ride-2/2020-03-10/
LOCATION:Club House\, 1 Halls Head Parade\, Halls Head\, WA\, 6210\, Australia
CATEGORIES:Club Ride
END:VEVENT
BEGIN:VEVENT
DTSTART;TZID=Australia/Perth:20200311T090000
DTEND;TZID=Australia/Perth:20200311T090000
DTSTAMP:20200228T072515
CREATED:20200121T022810Z
LAST-MODIFIED:20200121T022810Z
UID:2605-1583917200-1583917200@mandurahover55cycleclub.org.au
SUMMARY:Barry and Jan's Ride - Bouvard and Back
DESCRIPTION:Riders meet at 9am every Wednesday (8am in Summer) at the Osprey Waters Car Park. \nMedium to Strong Riders \n
URL:https://mandurahover55cycleclub.org.au/event/barry-and-jans-ride-bouvard-and-back/2020-03-11/
LOCATION:Osprey Waters Car Park\, 62 Egret Point Road\, Erskine\, WA\, 6210\, Australia
CATEGORIES:Club Ride
END:VEVENT
BEGIN:VEVENT
DTSTART;TZID=Australia/Perth:20200312T090000
DTEND;TZID=Australia/Perth:20200312T090000
DTSTAMP:20200228T072515
CREATED:20200121T021314Z
LAST-MODIFIED:20200121T021314Z
UID:2287-1584003600-1584003600@mandurahover55cycleclub.org.au
SUMMARY:Peelwood Path
DESCRIPTION:Riders meet at 9am every Thursday opposite the BP Service Station in Halls Head. \nRides to Venue 1 and Venue 2 on alternate months. \nAll level of riders catered for. \n
URL:https://mandurahover55cycleclub.org.au/event/peelwood-path/2020-03-12/
LOCATION:Peelwood Path\, 2 Peelwood Parade\, Halls Head\, WA\, 6210\, Australia
CATEGORIES:Club Ride
END:VEVENT
BEGIN:VEVENT
DTSTART;TZID=Australia/Perth:20200313T080000
DTEND;TZID=Australia/Perth:20200313T080000
DTSTAMP:20200228T072515
CREATED:20191118T082827Z
LAST-MODIFIED:20200121T023301Z
UID:1612-1584086400-1584086400@mandurahover55cycleclub.org.au
SUMMARY:Fridays from Lake Cemetery
DESCRIPTION:Ride commences at 8:00am every Friday from Lake Cemetery\, Stock Road. Ride commences at 7.30am in Summer. \nFor medium to strong riders \nRide takes Freeway path to Baldivis one week\, and Pinjarra other week. \n  \n
URL:https://mandurahover55cycleclub.org.au/event/fridays-from-lake-cemetery/2020-03-13/
LOCATION:Lakes Cemetery\, 115 Stock Road\, Parklands\, WA\, 6180\, Australia
CATEGORIES:Club Ride
ORGANIZER;CN="Mark%20Thurgood":MAILTO:ridecaptain@mandurahover55cycleclub.org.au
END:VEVENT
BEGIN:VEVENT
DTSTART;TZID=Australia/Perth:20200313T090000
DTEND;TZID=Australia/Perth:20200313T090000
DTSTAMP:20200228T072515
CREATED:20190906T032318Z
LAST-MODIFIED:20190906T032318Z
UID:2828-1584090000-1584090000@mandurahover55cycleclub.org.au
SUMMARY:Fridays from Rotunda
DESCRIPTION:Social ride\, easy riders catered for (fast as the slowest rider).\n8:00am start Dec – Feb;\n9:00am Mar – Nov \n
URL:https://mandurahover55cycleclub.org.au/event/fridays-from-rotunda/2020-03-13/
LOCATION:Rotunda\, 54 Mandurah Terrace\, Mandurah\, WA\, 6210\, Australia
CATEGORIES:Club Ride
END:VEVENT
BEGIN:VEVENT
DTSTART;VALUE=DATE:20200314
DTEND;VALUE=DATE:20200316
DTSTAMP:20200228T072515
CREATED:20200121T031913Z
LAST-MODIFIED:20200121T031913Z
UID:3050-1584144000-1584316799@mandurahover55cycleclub.org.au
SUMMARY:CRAB FEST
DESCRIPTION:
URL:https://mandurahover55cycleclub.org.au/event/crab-fest/
CATEGORIES:Special Event
END:VEVENT
BEGIN:VEVENT
DTSTART;TZID=Australia/Perth:20200314T070000
DTEND;TZID=Australia/Perth:20200314T070000
DTSTAMP:20200228T072515
CREATED:20200121T024258Z
LAST-MODIFIED:20200121T024258Z
UID:2886-1584169200-1584169200@mandurahover55cycleclub.org.au
SUMMARY:Three Rides by Giant & Cycles Mandurah
DESCRIPTION:Rides commences 7am every Saturday from the Giant store in Mandurah. \nThree rides available: Fast Ride\, Medium Ride and Easy Ride for Competent Riders \n
URL:https://mandurahover55cycleclub.org.au/event/three-rides-by-giant-cycles-mandurah/2020-03-14/
LOCATION:Giant Mandurah\, Shop 2/10 Rutland Dr\, Halls Head\, WA\, 6210\, Australia
END:VEVENT
BEGIN:VEVENT
DTSTART;VALUE=DATE:20200316
DTEND;VALUE=DATE:20200323
DTSTAMP:20200228T072515
CREATED:20191029T034104Z
LAST-MODIFIED:20191029T034104Z
UID:1203-1584316800-1584921599@mandurahover55cycleclub.org.au
SUMMARY:Southwest Tour
DESCRIPTION:A 414 km tour\, departing from and terminating in Busselton. Heading for the tall timber country and the vineyards of the south west the first day takes the riders to Margaret River\, then on to Nannup on day two.  Day three is to Pemberton then there is a boat cruise on the following rest day. The tour returns Pemberton to Nannup after the rest day\, and back to Busselton on the final day. \n
URL:https://mandurahover55cycleclub.org.au/event/southwest-tour/
CATEGORIES:Cycling Tour
ATTACH;FMTTYPE=image/jpeg:https://mandurahover55cycleclub.org.au/wp-content/uploads/Augusta-Gallery-3.jpg
ORGANIZER;CN="Mark%20Thurgood":MAILTO:ridecaptain@mandurahover55cycleclub.org.au
END:VEVENT
BEGIN:VEVENT
DTSTART;TZID=Australia/Perth:20200317T080000
DTEND;TZID=Australia/Perth:20200317T080000
DTSTAMP:20200228T072515
CREATED:20191003T081618Z
LAST-MODIFIED:20200121T031600Z
UID:2967-1584432000-1584432000@mandurahover55cycleclub.org.au
SUMMARY:Club Ride
DESCRIPTION:Ride commences at 8am from Dec – Feb \nRide commences at 9am from Mar – Nov \n
URL:https://mandurahover55cycleclub.org.au/event/club-ride-2/2020-03-17/
LOCATION:Club House\, 1 Halls Head Parade\, Halls Head\, WA\, 6210\, Australia
CATEGORIES:Club Ride
END:VEVENT
BEGIN:VEVENT
DTSTART;TZID=Australia/Perth:20200318T090000
DTEND;TZID=Australia/Perth:20200318T090000
DTSTAMP:20200228T072515
CREATED:20200121T022810Z
LAST-MODIFIED:20200121T022810Z
UID:2606-1584522000-1584522000@mandurahover55cycleclub.org.au
SUMMARY:Barry and Jan's Ride - Bouvard and Back
DESCRIPTION:Riders meet at 9am every Wednesday (8am in Summer) at the Osprey Waters Car Park. \nMedium to Strong Riders \n
URL:https://mandurahover55cycleclub.org.au/event/barry-and-jans-ride-bouvard-and-back/2020-03-18/
LOCATION:Osprey Waters Car Park\, 62 Egret Point Road\, Erskine\, WA\, 6210\, Australia
CATEGORIES:Club Ride
END:VEVENT
BEGIN:VEVENT
DTSTART;TZID=Australia/Perth:20200319T090000
DTEND;TZID=Australia/Perth:20200319T090000
DTSTAMP:20200228T072515
CREATED:20200121T021314Z
LAST-MODIFIED:20200121T021314Z
UID:2288-1584608400-1584608400@mandurahover55cycleclub.org.au
SUMMARY:Peelwood Path
DESCRIPTION:Riders meet at 9am every Thursday opposite the BP Service Station in Halls Head. \nRides to Venue 1 and Venue 2 on alternate months. \nAll level of riders catered for. \n
URL:https://mandurahover55cycleclub.org.au/event/peelwood-path/2020-03-19/
LOCATION:Peelwood Path\, 2 Peelwood Parade\, Halls Head\, WA\, 6210\, Australia
CATEGORIES:Club Ride
END:VEVENT
BEGIN:VEVENT
DTSTART;TZID=Australia/Perth:20200320T080000
DTEND;TZID=Australia/Perth:20200320T080000
DTSTAMP:20200228T072515
CREATED:20191118T082827Z
LAST-MODIFIED:20200121T023302Z
UID:1613-1584691200-1584691200@mandurahover55cycleclub.org.au
SUMMARY:Fridays from Lake Cemetery
DESCRIPTION:Ride commences at 8:00am every Friday from Lake Cemetery\, Stock Road. Ride commences at 7.30am in Summer. \nFor medium to strong riders \nRide takes Freeway path to Baldivis one week\, and Pinjarra other week. \n  \n
URL:https://mandurahover55cycleclub.org.au/event/fridays-from-lake-cemetery/2020-03-20/
LOCATION:Lakes Cemetery\, 115 Stock Road\, Parklands\, WA\, 6180\, Australia
CATEGORIES:Club Ride
ORGANIZER;CN="Mark%20Thurgood":MAILTO:ridecaptain@mandurahover55cycleclub.org.au
END:VEVENT
BEGIN:VEVENT
DTSTART;TZID=Australia/Perth:20200320T084500
DTEND;TZID=Australia/Perth:20200320T084500
DTSTAMP:20200228T072515
CREATED:20200121T032317Z
LAST-MODIFIED:20200121T032317Z
UID:3069-1584693900-1584693900@mandurahover55cycleclub.org.au
SUMMARY:Away Ride: Bull Creek to Point Walter
DESCRIPTION:
URL:https://mandurahover55cycleclub.org.au/event/away-ride-bull-creek-to-point-walter/
LOCATION:Mandurah Train Station\, 113 Allnut Street\, Mandurah\, WA\, 6210\, Australia
CATEGORIES:Away Ride
END:VEVENT
BEGIN:VEVENT
DTSTART;TZID=Australia/Perth:20200320T090000
DTEND;TZID=Australia/Perth:20200320T090000
DTSTAMP:20200228T072515
CREATED:20190906T032318Z
LAST-MODIFIED:20190906T032318Z
UID:2829-1584694800-1584694800@mandurahover55cycleclub.org.au
SUMMARY:Fridays from Rotunda
DESCRIPTION:Social ride\, easy riders catered for (fast as the slowest rider).\n8:00am start Dec – Feb;\n9:00am Mar – Nov \n
URL:https://mandurahover55cycleclub.org.au/event/fridays-from-rotunda/2020-03-20/
LOCATION:Rotunda\, 54 Mandurah Terrace\, Mandurah\, WA\, 6210\, Australia
CATEGORIES:Club Ride
END:VEVENT
BEGIN:VEVENT
DTSTART;TZID=Australia/Perth:20200321T070000
DTEND;TZID=Australia/Perth:20200321T070000
DTSTAMP:20200228T072515
CREATED:20200121T024258Z
LAST-MODIFIED:20200121T024258Z
UID:2887-1584774000-1584774000@mandurahover55cycleclub.org.au
SUMMARY:Three Rides by Giant & Cycles Mandurah
DESCRIPTION:Rides commences 7am every Saturday from the Giant store in Mandurah. \nThree rides available: Fast Ride\, Medium Ride and Easy Ride for Competent Riders \n
URL:https://mandurahover55cycleclub.org.au/event/three-rides-by-giant-cycles-mandurah/2020-03-21/
LOCATION:Giant Mandurah\, Shop 2/10 Rutland Dr\, Halls Head\, WA\, 6210\, Australia
END:VEVENT
BEGIN:VEVENT
DTSTART;VALUE=DATE:20200323
DTEND;VALUE=DATE:20200328
DTSTAMP:20200228T072515
CREATED:20191028T024039Z
LAST-MODIFIED:20191029T033949Z
UID:1185-1584921600-1585353599@mandurahover55cycleclub.org.au
SUMMARY:Busselton Tour
DESCRIPTION:Enjoy Busselton and explore surrounds\, as well as towns further afield. As well as shorter routes\, rides are also organised to Dunsborough\, Cowaramup\, Margaret River\, Vasse\, and Peppermint Grove Beach during the week long tour. Participants stay in accommodation in the town\, generally one of the caravan parks\, and activities after the rides often include lawn bowls competitions\, daily sundowners and club dinners. \nAccommodation options at Kookaburra Caravan Park (Ph: 97521516\, or email) \n
URL:https://mandurahover55cycleclub.org.au/event/busselton-tour/
CATEGORIES:Cycling Tour
ATTACH;FMTTYPE=image/jpeg:https://mandurahover55cycleclub.org.au/wp-content/uploads/Augusta-Gallery-6.jpg
ORGANIZER;CN="John%20Cox":MAILTO:president@mandurahover55cycleclub.org.au
END:VEVENT
BEGIN:VEVENT
DTSTART;TZID=Australia/Perth:20200324T080000
DTEND;TZID=Australia/Perth:20200324T080000
DTSTAMP:20200228T072515
CREATED:20191003T081618Z
LAST-MODIFIED:20200121T031602Z
UID:2968-1585036800-1585036800@mandurahover55cycleclub.org.au
SUMMARY:Club Ride
DESCRIPTION:Ride commences at 8am from Dec – Feb \nRide commences at 9am from Mar – Nov \n
URL:https://mandurahover55cycleclub.org.au/event/club-ride-2/2020-03-24/
LOCATION:Club House\, 1 Halls Head Parade\, Halls Head\, WA\, 6210\, Australia
CATEGORIES:Club Ride
END:VEVENT
BEGIN:VEVENT
DTSTART;TZID=Australia/Perth:20200325T090000
DTEND;TZID=Australia/Perth:20200325T090000
DTSTAMP:20200228T072515
CREATED:20200121T022810Z
LAST-MODIFIED:20200121T022810Z
UID:2607-1585126800-1585126800@mandurahover55cycleclub.org.au
SUMMARY:Barry and Jan's Ride - Bouvard and Back
DESCRIPTION:Riders meet at 9am every Wednesday (8am in Summer) at the Osprey Waters Car Park. \nMedium to Strong Riders \n
URL:https://mandurahover55cycleclub.org.au/event/barry-and-jans-ride-bouvard-and-back/2020-03-25/
LOCATION:Osprey Waters Car Park\, 62 Egret Point Road\, Erskine\, WA\, 6210\, Australia
CATEGORIES:Club Ride
END:VEVENT
BEGIN:VEVENT
DTSTART;TZID=Australia/Perth:20200326T090000
DTEND;TZID=Australia/Perth:20200326T090000
DTSTAMP:20200228T072515
CREATED:20200121T021314Z
LAST-MODIFIED:20200121T021314Z
UID:2289-1585213200-1585213200@mandurahover55cycleclub.org.au
SUMMARY:Peelwood Path
DESCRIPTION:Riders meet at 9am every Thursday opposite the BP Service Station in Halls Head. \nRides to Venue 1 and Venue 2 on alternate months. \nAll level of riders catered for. \n
URL:https://mandurahover55cycleclub.org.au/event/peelwood-path/2020-03-26/
LOCATION:Peelwood Path\, 2 Peelwood Parade\, Halls Head\, WA\, 6210\, Australia
CATEGORIES:Club Ride
END:VEVENT
BEGIN:VEVENT
DTSTART;TZID=Australia/Perth:20200327T080000
DTEND;TZID=Australia/Perth:20200327T080000
DTSTAMP:20200228T072515
CREATED:20191118T082827Z
LAST-MODIFIED:20200121T023303Z
UID:1614-1585296000-1585296000@mandurahover55cycleclub.org.au
SUMMARY:Fridays from Lake Cemetery
DESCRIPTION:Ride commences at 8:00am every Friday from Lake Cemetery\, Stock Road. Ride commences at 7.30am in Summer. \nFor medium to strong riders \nRide takes Freeway path to Baldivis one week\, and Pinjarra other week. \n  \n
URL:https://mandurahover55cycleclub.org.au/event/fridays-from-lake-cemetery/2020-03-27/
LOCATION:Lakes Cemetery\, 115 Stock Road\, Parklands\, WA\, 6180\, Australia
CATEGORIES:Club Ride
ORGANIZER;CN="Mark%20Thurgood":MAILTO:ridecaptain@mandurahover55cycleclub.org.au
END:VEVENT
BEGIN:VEVENT
DTSTART;TZID=Australia/Perth:20200327T090000
DTEND;TZID=Australia/Perth:20200327T090000
DTSTAMP:20200228T072515
CREATED:20190906T032318Z
LAST-MODIFIED:20190906T032318Z
UID:2830-1585299600-1585299600@mandurahover55cycleclub.org.au
SUMMARY:Fridays from Rotunda
DESCRIPTION:Social ride\, easy riders catered for (fast as the slowest rider).\n8:00am start Dec – Feb;\n9:00am Mar – Nov \n
URL:https://mandurahover55cycleclub.org.au/event/fridays-from-rotunda/2020-03-27/
LOCATION:Rotunda\, 54 Mandurah Terrace\, Mandurah\, WA\, 6210\, Australia
CATEGORIES:Club Ride
END:VEVENT
END:VCALENDAR